BEGIN:VCALENDAR
VERSION:2.0
PRODID:-//Inchantmint: Cottage of the Sovereign Witch - ECPv6.15.20//NONSGML v1.0//EN
CALSCALE:GREGORIAN
METHOD:PUBLISH
X-WR-CALNAME:Inchantmint: Cottage of the Sovereign Witch
X-ORIGINAL-URL:https://inchantmint.com
X-WR-CALDESC:Events for Inchantmint: Cottage of the Sovereign Witch
REFRESH-INTERVAL;VALUE=DURATION:PT1H
X-Robots-Tag:noindex
X-PUBLISHED-TTL:PT1H
BEGIN:VTIMEZONE
TZID:America/New_York
BEGIN:DAYLIGHT
TZOFFSETFROM:-0500
TZOFFSETTO:-0400
TZNAME:EDT
DTSTART:20240310T070000
END:DAYLIGHT
BEGIN:STANDARD
TZOFFSETFROM:-0400
TZOFFSETTO:-0500
TZNAME:EST
DTSTART:20241103T060000
END:STANDARD
BEGIN:DAYLIGHT
TZOFFSETFROM:-0500
TZOFFSETTO:-0400
TZNAME:EDT
DTSTART:20250309T070000
END:DAYLIGHT
BEGIN:STANDARD
TZOFFSETFROM:-0400
TZOFFSETTO:-0500
TZNAME:EST
DTSTART:20251102T060000
END:STANDARD
BEGIN:DAYLIGHT
TZOFFSETFROM:-0500
TZOFFSETTO:-0400
TZNAME:EDT
DTSTART:20260308T070000
END:DAYLIGHT
BEGIN:STANDARD
TZOFFSETFROM:-0400
TZOFFSETTO:-0500
TZNAME:EST
DTSTART:20261101T060000
END:STANDARD
BEGIN:DAYLIGHT
TZOFFSETFROM:-0500
TZOFFSETTO:-0400
TZNAME:EDT
DTSTART:20270314T070000
END:DAYLIGHT
BEGIN:STANDARD
TZOFFSETFROM:-0400
TZOFFSETTO:-0500
TZNAME:EST
DTSTART:20271107T060000
END:STANDARD
END:VTIMEZONE
BEGIN:VEVENT
DTSTART;VALUE=DATE:20251228
DTEND;VALUE=DATE:20260103
DTSTAMP:20260422T032157
CREATED:20251224T025451Z
LAST-MODIFIED:20251224T025451Z
UID:6374-1766880000-1767398399@inchantmint.com
SUMMARY:Gibbous Glow: A Waxing Gibbous Ritual to Amplify Momentum and Hone Your Craft (Sun. Dec. 28\, 2025 → Fri. Jan. 2\, 2026)
DESCRIPTION:This waxing gibbous window brims with near-full energy — perfect for polishing your work\, testing edges\, and strengthening what you’ve begun so it can stand the light. Over these five days you’ll refine\, amplify\, and steady momentum so your effort becomes a finished\, present force. Use this short ritual once each day or choose one... Continue Reading →
URL:https://inchantmint.com/event/gibbous-glow-a-waxing-gibbous-ritual-to-amplify-momentum-and-hone-your-craft-sun-dec-28-2025-%e2%86%92-fri-jan-2-2026/
CATEGORIES:Moon Ritual,Waxing Gibbous Moon
END:VEVENT
BEGIN:VEVENT
DTSTART;VALUE=DATE:20260104
DTEND;VALUE=DATE:20260110
DTSTAMP:20260422T032157
CREATED:20260102T220941Z
LAST-MODIFIED:20260104T170753Z
UID:6916-1767484800-1768003199@inchantmint.com
SUMMARY:The Waning Gibbous: Biological Consolidation & Signal Refinement (Sun Jan 4\, 2025 → Fri Jan 9\, 2025)
DESCRIPTION:This waxing gibbous window brims with near-full energy — perfect for polishing your work\, testing edges\, and strengthening what you’ve begun so it can stand the light. Over these five days you’ll refine\, amplify\, and steady momentum so your effort becomes a finished\, present force. Use this short ritual once each day or choose one... Continue Reading →
URL:https://inchantmint.com/event/the-waning-gibbous-biological-consolidation-signal-refinement-sun-jan-4-2025-%e2%86%92-fri-jan-9-2025/
CATEGORIES:January,Moon Ritual,Waning Gibbous Moon
ATTACH;FMTTYPE=image/png:https://inchantmint.com/wp-content/uploads/2026/01/The-Waning-Gibbous-Biological-Consolidation-Signal-Refinement.png
END:VEVENT
BEGIN:VEVENT
DTSTART;VALUE=DATE:20260110
DTEND;VALUE=DATE:20260111
DTSTAMP:20260422T032157
CREATED:20260103T005357Z
LAST-MODIFIED:20260103T005357Z
UID:6946-1768003200-1768089599@inchantmint.com
SUMMARY:Quarter’s Quiet: A Last-Quarter Moon Ritual to Unload\, Rebalance\, and Reorient (Sat — Jan 10\, 2025)
DESCRIPTION:This waxing gibbous window brims with near-full energy — perfect for polishing your work\, testing edges\, and strengthening what you’ve begun so it can stand the light. Over these five days you’ll refine\, amplify\, and steady momentum so your effort becomes a finished\, present force. Use this short ritual once each day or choose one... Continue Reading →
URL:https://inchantmint.com/event/quarters-quiet-a-last-quarter-moon-ritual-to-unload-rebalance-and-reorient-sat-jan-10-2025/
CATEGORIES:January,Last Quarter Moon,Moon Ritual
END:VEVENT
BEGIN:VEVENT
DTSTART;VALUE=DATE:20260111
DTEND;VALUE=DATE:20260118
DTSTAMP:20260422T032157
CREATED:20260103T005801Z
LAST-MODIFIED:20260103T005801Z
UID:6949-1768089600-1768694399@inchantmint.com
SUMMARY:Quiet Return: A Waning Crescent Ritual to Rest\, Repair\, and Ready the Heart (Sun Jan 11\, 2025 → Sat Jan 17\, 2025)
DESCRIPTION:This waxing gibbous window brims with near-full energy — perfect for polishing your work\, testing edges\, and strengthening what you’ve begun so it can stand the light. Over these five days you’ll refine\, amplify\, and steady momentum so your effort becomes a finished\, present force. Use this short ritual once each day or choose one... Continue Reading →
URL:https://inchantmint.com/event/quiet-return-a-waning-crescent-ritual-to-rest-repair-and-ready-the-heart-sun-jan-11-2025-%e2%86%92-sat-jan-17-2025/
CATEGORIES:January,Moon Ritual,Waning Crescent
END:VEVENT
BEGIN:VEVENT
DTSTART;VALUE=DATE:20260127
DTEND;VALUE=DATE:20260201
DTSTAMP:20260422T032157
CREATED:20260103T011328Z
LAST-MODIFIED:20260103T011328Z
UID:6961-1769472000-1769903999@inchantmint.com
SUMMARY:Gibbous Bloom: A Waxing Gibbous Ritual to Sharpen\, Strengthen\, and Send Your Work Forward (Tue Jan 27\, 2025 → Sat Jan 31\, 2025)
DESCRIPTION:This waxing gibbous window brims with near-full energy — perfect for polishing your work\, testing edges\, and strengthening what you’ve begun so it can stand the light. Over these five days you’ll refine\, amplify\, and steady momentum so your effort becomes a finished\, present force. Use this short ritual once each day or choose one... Continue Reading →
URL:https://inchantmint.com/event/gibbous-bloom-a-waxing-gibbous-ritual-to-sharpen-strengthen-and-send-your-work-forward-tue-jan-27-2025-%e2%86%92-sat-jan-31-2025/
CATEGORIES:January,Moon Ritual,Waxing Gibbous Moon
END:VEVENT
END:VCALENDAR