BEGIN:VCALENDAR
VERSION:2.0
PRODID:-//Inchantmint: Cottage of the Sovereign Witch - ECPv6.15.20//NONSGML v1.0//EN
CALSCALE:GREGORIAN
METHOD:PUBLISH
X-ORIGINAL-URL:https://inchantmint.com
X-WR-CALDESC:Events for Inchantmint: Cottage of the Sovereign Witch
REFRESH-INTERVAL;VALUE=DURATION:PT1H
X-Robots-Tag:noindex
X-PUBLISHED-TTL:PT1H
BEGIN:VTIMEZONE
TZID:America/New_York
BEGIN:DAYLIGHT
TZOFFSETFROM:-0500
TZOFFSETTO:-0400
TZNAME:EDT
DTSTART:20250309T070000
END:DAYLIGHT
BEGIN:STANDARD
TZOFFSETFROM:-0400
TZOFFSETTO:-0500
TZNAME:EST
DTSTART:20251102T060000
END:STANDARD
BEGIN:DAYLIGHT
TZOFFSETFROM:-0500
TZOFFSETTO:-0400
TZNAME:EDT
DTSTART:20260308T070000
END:DAYLIGHT
BEGIN:STANDARD
TZOFFSETFROM:-0400
TZOFFSETTO:-0500
TZNAME:EST
DTSTART:20261101T060000
END:STANDARD
BEGIN:DAYLIGHT
TZOFFSETFROM:-0500
TZOFFSETTO:-0400
TZNAME:EDT
DTSTART:20270314T070000
END:DAYLIGHT
BEGIN:STANDARD
TZOFFSETFROM:-0400
TZOFFSETTO:-0500
TZNAME:EST
DTSTART:20271107T060000
END:STANDARD
END:VTIMEZONE
BEGIN:VEVENT
DTSTART;VALUE=DATE:20260126
DTEND;VALUE=DATE:20260127
DTSTAMP:20260425T164615
CREATED:20260103T010919Z
LAST-MODIFIED:20260103T010919Z
UID:6958-1769385600-1769471999@inchantmint.com
SUMMARY:Quarter Spark: A First-Quarter Moon Ritual to Choose Action and Ignite Momentum (Mon — Jan 26\, 2025)
DESCRIPTION:The First Quarter asks for a bold choice: move forward or linger. This ritual helps you pick one meaningful intention\, translate it into embodied steps\, and set momentum humming through your days. Do it on the day itself or during that evening — ten to twenty minutes is enough. You’ll leave with clarity\, courage\, and... Continue Reading →
URL:https://inchantmint.com/event/quarter-spark-a-first-quarter-moon-ritual-to-choose-action-and-ignite-momentum-mon-jan-26-2025/
CATEGORIES:First Quarter Moon,January,Moon Ritual
END:VEVENT
END:VCALENDAR