BEGIN:VCALENDAR
VERSION:2.0
PRODID:-//Inchantmint: Cottage of the Sovereign Witch - ECPv6.15.20//NONSGML v1.0//EN
CALSCALE:GREGORIAN
METHOD:PUBLISH
X-WR-CALNAME:Inchantmint: Cottage of the Sovereign Witch
X-ORIGINAL-URL:https://inchantmint.com
X-WR-CALDESC:Events for Inchantmint: Cottage of the Sovereign Witch
REFRESH-INTERVAL;VALUE=DURATION:PT1H
X-Robots-Tag:noindex
X-PUBLISHED-TTL:PT1H
BEGIN:VTIMEZONE
TZID:America/New_York
BEGIN:DAYLIGHT
TZOFFSETFROM:-0500
TZOFFSETTO:-0400
TZNAME:EDT
DTSTART:20250309T070000
END:DAYLIGHT
BEGIN:STANDARD
TZOFFSETFROM:-0400
TZOFFSETTO:-0500
TZNAME:EST
DTSTART:20251102T060000
END:STANDARD
BEGIN:DAYLIGHT
TZOFFSETFROM:-0500
TZOFFSETTO:-0400
TZNAME:EDT
DTSTART:20260308T070000
END:DAYLIGHT
BEGIN:STANDARD
TZOFFSETFROM:-0400
TZOFFSETTO:-0500
TZNAME:EST
DTSTART:20261101T060000
END:STANDARD
BEGIN:DAYLIGHT
TZOFFSETFROM:-0500
TZOFFSETTO:-0400
TZNAME:EDT
DTSTART:20270314T070000
END:DAYLIGHT
BEGIN:STANDARD
TZOFFSETFROM:-0400
TZOFFSETTO:-0500
TZNAME:EST
DTSTART:20271107T060000
END:STANDARD
END:VTIMEZONE
BEGIN:VEVENT
DTSTART;VALUE=DATE:20260211
DTEND;VALUE=DATE:20260216
DTSTAMP:20260422T034223
CREATED:20260211T141958Z
LAST-MODIFIED:20260211T141958Z
UID:8397-1770768000-1771199999@inchantmint.com
SUMMARY:Valentine's Day for Witch's
DESCRIPTION:Valentine’s Day is more than roses and cards; it’s a shimmering doorway in the year where affection\, devotion\, and inner magnetism align. As a cottage witch and metaphysical scientist\, I see this day as a pulsing nodal point in the year — a time to attune your heart\, refine your vibration\, and craft rituals that call forth... Continue Reading →
URL:https://inchantmint.com/event/valentines-day-for-witchs/
CATEGORIES:Valentine's Day
ATTACH;FMTTYPE=image/png:https://inchantmint.com/wp-content/uploads/2026/02/The-Metaphysical-Witchy-Magic-of-Valentines-Day-—-Invite-Love-Joy-and-Deep-Personal-Alchemy.png
END:VEVENT
END:VCALENDAR