BEGIN:VCALENDAR
VERSION:2.0
PRODID:-//Inchantmint: Cottage of the Sovereign Witch - ECPv6.15.20//NONSGML v1.0//EN
CALSCALE:GREGORIAN
METHOD:PUBLISH
X-WR-CALNAME:Inchantmint: Cottage of the Sovereign Witch
X-ORIGINAL-URL:https://inchantmint.com
X-WR-CALDESC:Events for Inchantmint: Cottage of the Sovereign Witch
REFRESH-INTERVAL;VALUE=DURATION:PT1H
X-Robots-Tag:noindex
X-PUBLISHED-TTL:PT1H
BEGIN:VTIMEZONE
TZID:America/New_York
BEGIN:DAYLIGHT
TZOFFSETFROM:-0500
TZOFFSETTO:-0400
TZNAME:EDT
DTSTART:20250309T070000
END:DAYLIGHT
BEGIN:STANDARD
TZOFFSETFROM:-0400
TZOFFSETTO:-0500
TZNAME:EST
DTSTART:20251102T060000
END:STANDARD
BEGIN:DAYLIGHT
TZOFFSETFROM:-0500
TZOFFSETTO:-0400
TZNAME:EDT
DTSTART:20260308T070000
END:DAYLIGHT
BEGIN:STANDARD
TZOFFSETFROM:-0400
TZOFFSETTO:-0500
TZNAME:EST
DTSTART:20261101T060000
END:STANDARD
BEGIN:DAYLIGHT
TZOFFSETFROM:-0500
TZOFFSETTO:-0400
TZNAME:EDT
DTSTART:20270314T070000
END:DAYLIGHT
BEGIN:STANDARD
TZOFFSETFROM:-0400
TZOFFSETTO:-0500
TZNAME:EST
DTSTART:20271107T060000
END:STANDARD
END:VTIMEZONE
BEGIN:VEVENT
DTSTART;VALUE=DATE:20260101
DTEND;VALUE=DATE:20260102
DTSTAMP:20260424T100232
CREATED:20251224T030953Z
LAST-MODIFIED:20251224T030953Z
UID:6378-1767225600-1767311999@inchantmint.com
SUMMARY:Daily Ritual — Thursday\, January 1\, 2026: ONE-WORD RITUAL — “BEGIN”
DESCRIPTION:Valentine’s Day is more than roses and cards; it’s a shimmering doorway in the year where affection\, devotion\, and inner magnetism align. As a cottage witch and metaphysical scientist\, I see this day as a pulsing nodal point in the year — a time to attune your heart\, refine your vibration\, and craft rituals that call forth... Continue Reading →
URL:https://inchantmint.com/event/daily-ritual-thursday-january-1-2026-one-word-ritual-begin/
CATEGORIES:Daily Ritual,Holiday Ritual,January,New Year's Day
END:VEVENT
BEGIN:VEVENT
DTSTART;VALUE=DATE:20260102
DTEND;VALUE=DATE:20260103
DTSTAMP:20260424T100232
CREATED:20251223T230104Z
LAST-MODIFIED:20251223T230104Z
UID:6364-1767312000-1767398399@inchantmint.com
SUMMARY:Daily Ritual — Friday\, January 2\, 2026: ONE-WORD RITUAL — “WELL”
DESCRIPTION:Valentine’s Day is more than roses and cards; it’s a shimmering doorway in the year where affection\, devotion\, and inner magnetism align. As a cottage witch and metaphysical scientist\, I see this day as a pulsing nodal point in the year — a time to attune your heart\, refine your vibration\, and craft rituals that call forth... Continue Reading →
URL:https://inchantmint.com/event/daily-ritual-friday-january-2-2026-one-word-ritual-well/
CATEGORIES:Daily Ritual,January
END:VEVENT
BEGIN:VEVENT
DTSTART;VALUE=DATE:20260103
DTEND;VALUE=DATE:20260104
DTSTAMP:20260424T100232
CREATED:20260102T180040Z
LAST-MODIFIED:20260102T180101Z
UID:6908-1767398400-1767484799@inchantmint.com
SUMMARY:Daily Ritual — Saturday\, January 3\, 2026: ONE-WORD RITUAL — “STEADY”
DESCRIPTION:Valentine’s Day is more than roses and cards; it’s a shimmering doorway in the year where affection\, devotion\, and inner magnetism align. As a cottage witch and metaphysical scientist\, I see this day as a pulsing nodal point in the year — a time to attune your heart\, refine your vibration\, and craft rituals that call forth... Continue Reading →
URL:https://inchantmint.com/event/daily-ritual-saturday-january-3-2026-one-word-ritual-steady/
CATEGORIES:Daily Ritual,January
END:VEVENT
BEGIN:VEVENT
DTSTART;VALUE=DATE:20260111
DTEND;VALUE=DATE:20260112
DTSTAMP:20260424T100232
CREATED:20260106T021528Z
LAST-MODIFIED:20260106T021528Z
UID:7102-1768089600-1768175999@inchantmint.com
SUMMARY:Day of the Witch — January 11th: A Warm Blaze for the Soul
DESCRIPTION:Valentine’s Day is more than roses and cards; it’s a shimmering doorway in the year where affection\, devotion\, and inner magnetism align. As a cottage witch and metaphysical scientist\, I see this day as a pulsing nodal point in the year — a time to attune your heart\, refine your vibration\, and craft rituals that call forth... Continue Reading →
URL:https://inchantmint.com/event/day-of-the-witch-january-11th-a-warm-blaze-for-the-soul/
CATEGORIES:Cottage Witchery,Inchantmint,January,Metaphysical Magic,Mindfulness,Personal Development,Ritual Practice,Seasonal Rituals,Self-Mastery,Spiritual Growth,Witchcraft
ATTACH;FMTTYPE=image/png:https://inchantmint.com/wp-content/uploads/2026/01/Day-of-the-Witch-—-January-11th-A-Warm-Blaze-for-the-Soul.png
END:VEVENT
END:VCALENDAR