BEGIN:VCALENDAR
VERSION:2.0
PRODID:-//Inchantmint: Cottage of the Sovereign Witch - ECPv6.15.20//NONSGML v1.0//EN
CALSCALE:GREGORIAN
METHOD:PUBLISH
X-WR-CALNAME:Inchantmint: Cottage of the Sovereign Witch
X-ORIGINAL-URL:https://inchantmint.com
X-WR-CALDESC:Events for Inchantmint: Cottage of the Sovereign Witch
REFRESH-INTERVAL;VALUE=DURATION:PT1H
X-Robots-Tag:noindex
X-PUBLISHED-TTL:PT1H
BEGIN:VTIMEZONE
TZID:America/New_York
BEGIN:DAYLIGHT
TZOFFSETFROM:-0500
TZOFFSETTO:-0400
TZNAME:EDT
DTSTART:20240310T070000
END:DAYLIGHT
BEGIN:STANDARD
TZOFFSETFROM:-0400
TZOFFSETTO:-0500
TZNAME:EST
DTSTART:20241103T060000
END:STANDARD
BEGIN:DAYLIGHT
TZOFFSETFROM:-0500
TZOFFSETTO:-0400
TZNAME:EDT
DTSTART:20250309T070000
END:DAYLIGHT
BEGIN:STANDARD
TZOFFSETFROM:-0400
TZOFFSETTO:-0500
TZNAME:EST
DTSTART:20251102T060000
END:STANDARD
BEGIN:DAYLIGHT
TZOFFSETFROM:-0500
TZOFFSETTO:-0400
TZNAME:EDT
DTSTART:20260308T070000
END:DAYLIGHT
BEGIN:STANDARD
TZOFFSETFROM:-0400
TZOFFSETTO:-0500
TZNAME:EST
DTSTART:20261101T060000
END:STANDARD
BEGIN:DAYLIGHT
TZOFFSETFROM:-0500
TZOFFSETTO:-0400
TZNAME:EDT
DTSTART:20270314T070000
END:DAYLIGHT
BEGIN:STANDARD
TZOFFSETFROM:-0400
TZOFFSETTO:-0500
TZNAME:EST
DTSTART:20271107T060000
END:STANDARD
END:VTIMEZONE
BEGIN:VEVENT
DTSTART;VALUE=DATE:20260103
DTEND;VALUE=DATE:20260104
DTSTAMP:20260424T001210
CREATED:20260102T180040Z
LAST-MODIFIED:20260102T180101Z
UID:6908-1767398400-1767484799@inchantmint.com
SUMMARY:Daily Ritual — Saturday\, January 3\, 2026: ONE-WORD RITUAL — “STEADY”
DESCRIPTION:The First Quarter asks for a bold choice: move forward or linger. This ritual helps you pick one meaningful intention\, translate it into embodied steps\, and set momentum humming through your days. Do it on the day itself or during that evening — ten to twenty minutes is enough. You’ll leave with clarity\, courage\, and... Continue Reading →
URL:https://inchantmint.com/event/daily-ritual-saturday-january-3-2026-one-word-ritual-steady/
CATEGORIES:Daily Ritual,January
END:VEVENT
BEGIN:VEVENT
DTSTART;VALUE=DATE:20260102
DTEND;VALUE=DATE:20260103
DTSTAMP:20260424T001210
CREATED:20251223T230104Z
LAST-MODIFIED:20251223T230104Z
UID:6364-1767312000-1767398399@inchantmint.com
SUMMARY:Daily Ritual — Friday\, January 2\, 2026: ONE-WORD RITUAL — “WELL”
DESCRIPTION:The First Quarter asks for a bold choice: move forward or linger. This ritual helps you pick one meaningful intention\, translate it into embodied steps\, and set momentum humming through your days. Do it on the day itself or during that evening — ten to twenty minutes is enough. You’ll leave with clarity\, courage\, and... Continue Reading →
URL:https://inchantmint.com/event/daily-ritual-friday-january-2-2026-one-word-ritual-well/
CATEGORIES:Daily Ritual,January
END:VEVENT
BEGIN:VEVENT
DTSTART;VALUE=DATE:20260101
DTEND;VALUE=DATE:20260108
DTSTAMP:20260424T001210
CREATED:20260102T152811Z
LAST-MODIFIED:20260102T152905Z
UID:6887-1767225600-1767830399@inchantmint.com
SUMMARY:Atmospheric Transmutation: The Janus Reset
DESCRIPTION:The First Quarter asks for a bold choice: move forward or linger. This ritual helps you pick one meaningful intention\, translate it into embodied steps\, and set momentum humming through your days. Do it on the day itself or during that evening — ten to twenty minutes is enough. You’ll leave with clarity\, courage\, and... Continue Reading →
URL:https://inchantmint.com/event/atmospheric-transmutation-the-janus-reset/
CATEGORIES:Holiday Ritual,January,New Year,New Year Goals,New Year Ritual
END:VEVENT
BEGIN:VEVENT
DTSTART;VALUE=DATE:20260101
DTEND;VALUE=DATE:20260102
DTSTAMP:20260424T001210
CREATED:20251224T030953Z
LAST-MODIFIED:20251224T030953Z
UID:6378-1767225600-1767311999@inchantmint.com
SUMMARY:Daily Ritual — Thursday\, January 1\, 2026: ONE-WORD RITUAL — “BEGIN”
DESCRIPTION:The First Quarter asks for a bold choice: move forward or linger. This ritual helps you pick one meaningful intention\, translate it into embodied steps\, and set momentum humming through your days. Do it on the day itself or during that evening — ten to twenty minutes is enough. You’ll leave with clarity\, courage\, and... Continue Reading →
URL:https://inchantmint.com/event/daily-ritual-thursday-january-1-2026-one-word-ritual-begin/
CATEGORIES:Daily Ritual,Holiday Ritual,January,New Year's Day
END:VEVENT
BEGIN:VEVENT
DTSTART;VALUE=DATE:20260101
DTEND;VALUE=DATE:20260102
DTSTAMP:20260424T001210
CREATED:20251223T232820Z
LAST-MODIFIED:20251223T232820Z
UID:6367-1767225600-1767311999@inchantmint.com
SUMMARY:A Bright New Year — Begin Again with Courage and Quiet Magic
DESCRIPTION:The First Quarter asks for a bold choice: move forward or linger. This ritual helps you pick one meaningful intention\, translate it into embodied steps\, and set momentum humming through your days. Do it on the day itself or during that evening — ten to twenty minutes is enough. You’ll leave with clarity\, courage\, and... Continue Reading →
URL:https://inchantmint.com/event/a-bright-new-year-begin-again-with-courage-and-quiet-magic/
CATEGORIES:January,New Year's Day
ATTACH;FMTTYPE=image/png:https://inchantmint.com/wp-content/uploads/2025/12/A-Bright-New-Year-Blessing-By-Cat-Oakenhart-Inchantmint.png
END:VEVENT
BEGIN:VEVENT
DTSTART;VALUE=DATE:20251231
DTEND;VALUE=DATE:20260101
DTSTAMP:20260424T001210
CREATED:20251223T224201Z
LAST-MODIFIED:20251223T224201Z
UID:6358-1767139200-1767225599@inchantmint.com
SUMMARY:Daily Ritual — Wednesday\, December 31\, 2025 (New Year’s Eve): ONE-WORD RITUAL — “GLOW”
DESCRIPTION:The First Quarter asks for a bold choice: move forward or linger. This ritual helps you pick one meaningful intention\, translate it into embodied steps\, and set momentum humming through your days. Do it on the day itself or during that evening — ten to twenty minutes is enough. You’ll leave with clarity\, courage\, and... Continue Reading →
URL:https://inchantmint.com/event/daily-ritual-wednesday-december-31-2025-new-years-eve-one-word-ritual-glow/
CATEGORIES:Daily Ritual,Holiday Ritual,New Year's Eve
END:VEVENT
BEGIN:VEVENT
DTSTART;VALUE=DATE:20251230
DTEND;VALUE=DATE:20251231
DTSTAMP:20260424T001210
CREATED:20251223T223240Z
LAST-MODIFIED:20251223T223240Z
UID:6355-1767052800-1767139199@inchantmint.com
SUMMARY:Daily Ritual — Tuesday\, December 30\, 2025: ONE-WORD RITUAL — “ACT”
DESCRIPTION:The First Quarter asks for a bold choice: move forward or linger. This ritual helps you pick one meaningful intention\, translate it into embodied steps\, and set momentum humming through your days. Do it on the day itself or during that evening — ten to twenty minutes is enough. You’ll leave with clarity\, courage\, and... Continue Reading →
URL:https://inchantmint.com/event/daily-ritual-tuesday-december-30-2025-one-word-ritual-act/
CATEGORIES:Daily Ritual
END:VEVENT
BEGIN:VEVENT
DTSTART;VALUE=DATE:20251229
DTEND;VALUE=DATE:20251230
DTSTAMP:20260424T001210
CREATED:20251223T222407Z
LAST-MODIFIED:20251223T222407Z
UID:6352-1766966400-1767052799@inchantmint.com
SUMMARY:Daily Ritual — Monday\, December 29\, 2025: ONE-WORD RITUAL — “FLOW”
DESCRIPTION:The First Quarter asks for a bold choice: move forward or linger. This ritual helps you pick one meaningful intention\, translate it into embodied steps\, and set momentum humming through your days. Do it on the day itself or during that evening — ten to twenty minutes is enough. You’ll leave with clarity\, courage\, and... Continue Reading →
URL:https://inchantmint.com/event/daily-ritual-monday-december-29-2025-one-word-ritual-flow/
CATEGORIES:Daily Ritual
END:VEVENT
BEGIN:VEVENT
DTSTART;VALUE=DATE:20251228
DTEND;VALUE=DATE:20260103
DTSTAMP:20260424T001210
CREATED:20251224T025451Z
LAST-MODIFIED:20251224T025451Z
UID:6374-1766880000-1767398399@inchantmint.com
SUMMARY:Gibbous Glow: A Waxing Gibbous Ritual to Amplify Momentum and Hone Your Craft (Sun. Dec. 28\, 2025 → Fri. Jan. 2\, 2026)
DESCRIPTION:The First Quarter asks for a bold choice: move forward or linger. This ritual helps you pick one meaningful intention\, translate it into embodied steps\, and set momentum humming through your days. Do it on the day itself or during that evening — ten to twenty minutes is enough. You’ll leave with clarity\, courage\, and... Continue Reading →
URL:https://inchantmint.com/event/gibbous-glow-a-waxing-gibbous-ritual-to-amplify-momentum-and-hone-your-craft-sun-dec-28-2025-%e2%86%92-fri-jan-2-2026/
CATEGORIES:Moon Ritual,Waxing Gibbous Moon
END:VEVENT
BEGIN:VEVENT
DTSTART;VALUE=DATE:20251228
DTEND;VALUE=DATE:20251229
DTSTAMP:20260424T001210
CREATED:20251223T163116Z
LAST-MODIFIED:20251223T163116Z
UID:6347-1766880000-1766966399@inchantmint.com
SUMMARY:Daily Ritual — Sunday\, December 28\, 2025: ONE-WORD RITUAL — “BUILD”
DESCRIPTION:The First Quarter asks for a bold choice: move forward or linger. This ritual helps you pick one meaningful intention\, translate it into embodied steps\, and set momentum humming through your days. Do it on the day itself or during that evening — ten to twenty minutes is enough. You’ll leave with clarity\, courage\, and... Continue Reading →
URL:https://inchantmint.com/event/daily-ritual-sunday-december-28-2025-one-word-ritual-build/
CATEGORIES:Daily Ritual
END:VEVENT
BEGIN:VEVENT
DTSTART;VALUE=DATE:20251227
DTEND;VALUE=DATE:20251228
DTSTAMP:20260424T001210
CREATED:20251224T023716Z
LAST-MODIFIED:20251224T023716Z
UID:6371-1766793600-1766879999@inchantmint.com
SUMMARY:Quarter Bright: A First-Quarter Moon Ritual to Set Your Intentions in Motion - Saturday\, December 27\, 2025
DESCRIPTION:The First Quarter asks for a bold choice: move forward or linger. This ritual helps you pick one meaningful intention\, translate it into embodied steps\, and set momentum humming through your days. Do it on the day itself or during that evening — ten to twenty minutes is enough. You’ll leave with clarity\, courage\, and... Continue Reading →
URL:https://inchantmint.com/event/quarter-bright-a-first-quarter-moon-ritual-to-set-your-intentions-in-motion-saturday-december-27-2025/
CATEGORIES:First Quarter Moon,Moon Ritual
END:VEVENT
BEGIN:VEVENT
DTSTART;VALUE=DATE:20251227
DTEND;VALUE=DATE:20251228
DTSTAMP:20260424T001210
CREATED:20251223T161552Z
LAST-MODIFIED:20251223T161552Z
UID:6344-1766793600-1766879999@inchantmint.com
SUMMARY:Daily Ritual — Saturday\, December 27\, 2025: ONE-WORD RITUAL — “SING”
DESCRIPTION:The First Quarter asks for a bold choice: move forward or linger. This ritual helps you pick one meaningful intention\, translate it into embodied steps\, and set momentum humming through your days. Do it on the day itself or during that evening — ten to twenty minutes is enough. You’ll leave with clarity\, courage\, and... Continue Reading →
URL:https://inchantmint.com/event/daily-ritual-saturday-december-27-2025-one-word-ritual-sing/
CATEGORIES:Daily Ritual
END:VEVENT
BEGIN:VEVENT
DTSTART;VALUE=DATE:20251226
DTEND;VALUE=DATE:20251227
DTSTAMP:20260424T001210
CREATED:20251223T153616Z
LAST-MODIFIED:20251223T153616Z
UID:6341-1766707200-1766793599@inchantmint.com
SUMMARY:Daily Ritual — Friday\, December 26\, 2025: ONE-WORD RITUAL — “ROOT”
DESCRIPTION:The First Quarter asks for a bold choice: move forward or linger. This ritual helps you pick one meaningful intention\, translate it into embodied steps\, and set momentum humming through your days. Do it on the day itself or during that evening — ten to twenty minutes is enough. You’ll leave with clarity\, courage\, and... Continue Reading →
URL:https://inchantmint.com/event/daily-ritual-friday-december-26-2025-one-word-ritual-root/
CATEGORIES:Daily Ritual
END:VEVENT
BEGIN:VEVENT
DTSTART;VALUE=DATE:20251225
DTEND;VALUE=DATE:20251226
DTSTAMP:20260424T001210
CREATED:20251223T152337Z
LAST-MODIFIED:20251223T152337Z
UID:6337-1766620800-1766707199@inchantmint.com
SUMMARY:A Very Merry Christmas — May Your Hearth Shine Brighter Than Ever
DESCRIPTION:The First Quarter asks for a bold choice: move forward or linger. This ritual helps you pick one meaningful intention\, translate it into embodied steps\, and set momentum humming through your days. Do it on the day itself or during that evening — ten to twenty minutes is enough. You’ll leave with clarity\, courage\, and... Continue Reading →
URL:https://inchantmint.com/event/a-very-merry-christmas-may-your-hearth-shine-brighter-than-ever/
CATEGORIES:Christmas
ATTACH;FMTTYPE=image/png:https://inchantmint.com/wp-content/uploads/2025/12/A-Warm-Bright-Christmas-Blessing-By-Cat-Oakenhart-Inchantmint.png
END:VEVENT
BEGIN:VEVENT
DTSTART;VALUE=DATE:20251225
DTEND;VALUE=DATE:20251226
DTSTAMP:20260424T001210
CREATED:20251223T131042Z
LAST-MODIFIED:20251223T131042Z
UID:6334-1766620800-1766707199@inchantmint.com
SUMMARY:Daily Ritual — Thursday\, December 25\, 2025: ONE-WORD RITUAL — “GIVE”
DESCRIPTION:The First Quarter asks for a bold choice: move forward or linger. This ritual helps you pick one meaningful intention\, translate it into embodied steps\, and set momentum humming through your days. Do it on the day itself or during that evening — ten to twenty minutes is enough. You’ll leave with clarity\, courage\, and... Continue Reading →
URL:https://inchantmint.com/event/daily-ritual-thursday-december-25-2025-one-word-ritual-give/
CATEGORIES:Daily Ritual,Holiday Ritual
END:VEVENT
BEGIN:VEVENT
DTSTART;VALUE=DATE:20251224
DTEND;VALUE=DATE:20251225
DTSTAMP:20260424T001210
CREATED:20251223T120427Z
LAST-MODIFIED:20251223T120427Z
UID:6325-1766534400-1766620799@inchantmint.com
SUMMARY:Daily Ritual — Wednesday\, December 24\, 2025: ONE-WORD RITUAL — “RESPLEND”
DESCRIPTION:The First Quarter asks for a bold choice: move forward or linger. This ritual helps you pick one meaningful intention\, translate it into embodied steps\, and set momentum humming through your days. Do it on the day itself or during that evening — ten to twenty minutes is enough. You’ll leave with clarity\, courage\, and... Continue Reading →
URL:https://inchantmint.com/event/daily-ritual-wednesday-december-24-2025-one-word-ritual-resplend/
CATEGORIES:Daily Ritual
END:VEVENT
BEGIN:VEVENT
DTSTART;VALUE=DATE:20251223
DTEND;VALUE=DATE:20251224
DTSTAMP:20260424T001210
CREATED:20251217T184338Z
LAST-MODIFIED:20251217T184338Z
UID:6250-1766448000-1766534399@inchantmint.com
SUMMARY:Daily Ritual — Tuesday\, December 23\, 2025: EMBRACE
DESCRIPTION:The First Quarter asks for a bold choice: move forward or linger. This ritual helps you pick one meaningful intention\, translate it into embodied steps\, and set momentum humming through your days. Do it on the day itself or during that evening — ten to twenty minutes is enough. You’ll leave with clarity\, courage\, and... Continue Reading →
URL:https://inchantmint.com/event/daily-ritual-tuesday-december-23-2025-embrace/
CATEGORIES:Daily Ritual
END:VEVENT
BEGIN:VEVENT
DTSTART;VALUE=DATE:20251222
DTEND;VALUE=DATE:20251223
DTSTAMP:20260424T001210
CREATED:20251217T182900Z
LAST-MODIFIED:20251217T182900Z
UID:6247-1766361600-1766447999@inchantmint.com
SUMMARY:Daily Ritual — Monday\, December 22\, 2025: ONE-WORD RITUAL — "RESONATE"
DESCRIPTION:The First Quarter asks for a bold choice: move forward or linger. This ritual helps you pick one meaningful intention\, translate it into embodied steps\, and set momentum humming through your days. Do it on the day itself or during that evening — ten to twenty minutes is enough. You’ll leave with clarity\, courage\, and... Continue Reading →
URL:https://inchantmint.com/event/daily-ritual-monday-december-22-2025-one-word-ritual-resonate/
CATEGORIES:Daily Ritual
END:VEVENT
BEGIN:VEVENT
DTSTART;VALUE=DATE:20251221
DTEND;VALUE=DATE:20260102
DTSTAMP:20260424T001210
CREATED:20251217T175340Z
LAST-MODIFIED:20251221T193124Z
UID:6244-1766275200-1767311999@inchantmint.com
SUMMARY:Happy Yule! Holiday Ritual: A Gentle Yule Invitation - Find Warmth\, Wonder\, and a Living Thread of Magic
DESCRIPTION:The First Quarter asks for a bold choice: move forward or linger. This ritual helps you pick one meaningful intention\, translate it into embodied steps\, and set momentum humming through your days. Do it on the day itself or during that evening — ten to twenty minutes is enough. You’ll leave with clarity\, courage\, and... Continue Reading →
URL:https://inchantmint.com/event/happy-yule-holiday-ritual-a-gentle-yule-invitation-find-warmth-wonder-and-a-living-thread-of-magic/
CATEGORIES:Holiday Ritual,Yule
ATTACH;FMTTYPE=image/png:https://inchantmint.com/wp-content/uploads/2025/12/Happy-Yule-Holiday-Ritual-A-Gentle-Yule-Invitation-–-Find-Warmth-Wonder-and-a-Living-Thread-of-Magic.png
END:VEVENT
BEGIN:VEVENT
DTSTART;VALUE=DATE:20251221
DTEND;VALUE=DATE:20251227
DTSTAMP:20260424T001210
CREATED:20251217T170237Z
LAST-MODIFIED:20251217T170237Z
UID:6237-1766275200-1766793599@inchantmint.com
SUMMARY:Crescent Spark: A Waxing Moon Ritual to Call New Light and Blooming Joy
DESCRIPTION:The First Quarter asks for a bold choice: move forward or linger. This ritual helps you pick one meaningful intention\, translate it into embodied steps\, and set momentum humming through your days. Do it on the day itself or during that evening — ten to twenty minutes is enough. You’ll leave with clarity\, courage\, and... Continue Reading →
URL:https://inchantmint.com/event/crescent-spark-a-waxing-moon-ritual-to-call-new-light-and-blooming-joy/
END:VEVENT
BEGIN:VEVENT
DTSTART;VALUE=DATE:20251221
DTEND;VALUE=DATE:20251222
DTSTAMP:20260424T001210
CREATED:20251217T171939Z
LAST-MODIFIED:20251217T171939Z
UID:6241-1766275200-1766361599@inchantmint.com
SUMMARY:Daily Ritual — Sunday\, December 21\, 2025: Yule Solstice — "Rootfire"
DESCRIPTION:The First Quarter asks for a bold choice: move forward or linger. This ritual helps you pick one meaningful intention\, translate it into embodied steps\, and set momentum humming through your days. Do it on the day itself or during that evening — ten to twenty minutes is enough. You’ll leave with clarity\, courage\, and... Continue Reading →
URL:https://inchantmint.com/event/daily-ritual-sunday-december-21-2025-yule-solstice-rootfire/
CATEGORIES:Daily Ritual,Yule
END:VEVENT
BEGIN:VEVENT
DTSTART;VALUE=DATE:20251220
DTEND;VALUE=DATE:20251221
DTSTAMP:20260424T001210
CREATED:20251217T155524Z
LAST-MODIFIED:20251217T155524Z
UID:6234-1766188800-1766275199@inchantmint.com
SUMMARY:New Moon Intent Weaving — A Tender Spell to Seed Your Bright Becoming
DESCRIPTION:The First Quarter asks for a bold choice: move forward or linger. This ritual helps you pick one meaningful intention\, translate it into embodied steps\, and set momentum humming through your days. Do it on the day itself or during that evening — ten to twenty minutes is enough. You’ll leave with clarity\, courage\, and... Continue Reading →
URL:https://inchantmint.com/event/new-moon-intent-weaving-a-tender-spell-to-seed-your-bright-becoming/
CATEGORIES:New Moon
END:VEVENT
BEGIN:VEVENT
DTSTART;VALUE=DATE:20251220
DTEND;VALUE=DATE:20251221
DTSTAMP:20260424T001210
CREATED:20251217T153332Z
LAST-MODIFIED:20251217T153332Z
UID:6231-1766188800-1766275199@inchantmint.com
SUMMARY:Daily Ritual — Saturday\, December 20\, 2025: "Kindle"
DESCRIPTION:The First Quarter asks for a bold choice: move forward or linger. This ritual helps you pick one meaningful intention\, translate it into embodied steps\, and set momentum humming through your days. Do it on the day itself or during that evening — ten to twenty minutes is enough. You’ll leave with clarity\, courage\, and... Continue Reading →
URL:https://inchantmint.com/event/daily-ritual-saturday-december-20-2025-kindle/
CATEGORIES:Daily Ritual
END:VEVENT
BEGIN:VEVENT
DTSTART;VALUE=DATE:20251219
DTEND;VALUE=DATE:20251220
DTSTAMP:20260424T001210
CREATED:20251212T173941Z
LAST-MODIFIED:20251212T173941Z
UID:6037-1766102400-1766188799@inchantmint.com
SUMMARY:Daily Ritual — Friday\, December 19\, 2025: "Lumen"
DESCRIPTION:The First Quarter asks for a bold choice: move forward or linger. This ritual helps you pick one meaningful intention\, translate it into embodied steps\, and set momentum humming through your days. Do it on the day itself or during that evening — ten to twenty minutes is enough. You’ll leave with clarity\, courage\, and... Continue Reading →
URL:https://inchantmint.com/event/daily-ritual-friday-december-19-2025-lumen/
CATEGORIES:Daily Ritual
END:VEVENT
BEGIN:VEVENT
DTSTART;VALUE=DATE:20251218
DTEND;VALUE=DATE:20251219
DTSTAMP:20260424T001210
CREATED:20251212T153822Z
LAST-MODIFIED:20251212T153822Z
UID:6034-1766016000-1766102399@inchantmint.com
SUMMARY:Daily Ritual — Thursday\, December 18\, 2025: "Bloom"
DESCRIPTION:The First Quarter asks for a bold choice: move forward or linger. This ritual helps you pick one meaningful intention\, translate it into embodied steps\, and set momentum humming through your days. Do it on the day itself or during that evening — ten to twenty minutes is enough. You’ll leave with clarity\, courage\, and... Continue Reading →
URL:https://inchantmint.com/event/daily-ritual-thursday-december-18-2025-bloom/
CATEGORIES:Daily Ritual
END:VEVENT
BEGIN:VEVENT
DTSTART;VALUE=DATE:20251217
DTEND;VALUE=DATE:20251218
DTSTAMP:20260424T001210
CREATED:20251212T152819Z
LAST-MODIFIED:20251212T152819Z
UID:6031-1765929600-1766015999@inchantmint.com
SUMMARY:Daily Ritual — Wednesday\, December 17\, 2025: "Resonance"
DESCRIPTION:The First Quarter asks for a bold choice: move forward or linger. This ritual helps you pick one meaningful intention\, translate it into embodied steps\, and set momentum humming through your days. Do it on the day itself or during that evening — ten to twenty minutes is enough. You’ll leave with clarity\, courage\, and... Continue Reading →
URL:https://inchantmint.com/event/daily-ritual-wednesday-december-17-2025-resonance/
CATEGORIES:Daily Ritual
END:VEVENT
BEGIN:VEVENT
DTSTART;VALUE=DATE:20251216
DTEND;VALUE=DATE:20251217
DTSTAMP:20260424T001210
CREATED:20251212T151534Z
LAST-MODIFIED:20251212T151534Z
UID:6028-1765843200-1765929599@inchantmint.com
SUMMARY:Daily Ritual — Tuesday\, December 16\, 2025: Ignite
DESCRIPTION:The First Quarter asks for a bold choice: move forward or linger. This ritual helps you pick one meaningful intention\, translate it into embodied steps\, and set momentum humming through your days. Do it on the day itself or during that evening — ten to twenty minutes is enough. You’ll leave with clarity\, courage\, and... Continue Reading →
URL:https://inchantmint.com/event/daily-ritual-tuesday-december-16-2025-ignite/
CATEGORIES:Daily Ritual
END:VEVENT
BEGIN:VEVENT
DTSTART;VALUE=DATE:20251215
DTEND;VALUE=DATE:20251216
DTSTAMP:20260424T001210
CREATED:20251212T133850Z
LAST-MODIFIED:20251212T133850Z
UID:6025-1765756800-1765843199@inchantmint.com
SUMMARY:Daily Ritual — Monday\, December 15\, 2025: ONE WORD — "AWAKEN"
DESCRIPTION:The First Quarter asks for a bold choice: move forward or linger. This ritual helps you pick one meaningful intention\, translate it into embodied steps\, and set momentum humming through your days. Do it on the day itself or during that evening — ten to twenty minutes is enough. You’ll leave with clarity\, courage\, and... Continue Reading →
URL:https://inchantmint.com/event/daily-ritual-monday-december-15-2025-one-word-awaken/
CATEGORIES:Daily Ritual
END:VEVENT
BEGIN:VEVENT
DTSTART;VALUE=DATE:20251214
DTEND;VALUE=DATE:20251215
DTSTAMP:20260424T001210
CREATED:20251212T132622Z
LAST-MODIFIED:20251212T132622Z
UID:6022-1765670400-1765756799@inchantmint.com
SUMMARY:Daily Ritual — Sunday\, December 14\, 2025: Radiance (A Daily Ritual to Wake the Inner Sun and Steady the Heart)
DESCRIPTION:The First Quarter asks for a bold choice: move forward or linger. This ritual helps you pick one meaningful intention\, translate it into embodied steps\, and set momentum humming through your days. Do it on the day itself or during that evening — ten to twenty minutes is enough. You’ll leave with clarity\, courage\, and... Continue Reading →
URL:https://inchantmint.com/event/daily-ritual-sunday-december-14-2025-radiance-a-daily-ritual-to-wake-the-inner-sun-and-steady-the-heart/
CATEGORIES:Daily Ritual
END:VEVENT
BEGIN:VEVENT
DTSTART;VALUE=DATE:20251213
DTEND;VALUE=DATE:20251214
DTSTAMP:20260424T001210
CREATED:20251212T131036Z
LAST-MODIFIED:20251212T131036Z
UID:6019-1765584000-1765670399@inchantmint.com
SUMMARY:Daily Ritual — Saturday\, December 13\, 2025: Soar
DESCRIPTION:The First Quarter asks for a bold choice: move forward or linger. This ritual helps you pick one meaningful intention\, translate it into embodied steps\, and set momentum humming through your days. Do it on the day itself or during that evening — ten to twenty minutes is enough. You’ll leave with clarity\, courage\, and... Continue Reading →
URL:https://inchantmint.com/event/daily-ritual-saturday-december-13-2025-soar/
CATEGORIES:Daily Ritual
END:VEVENT
END:VCALENDAR