BEGIN:VCALENDAR
VERSION:2.0
PRODID:-//Inchantmint: Cottage of the Sovereign Witch - ECPv6.15.20//NONSGML v1.0//EN
CALSCALE:GREGORIAN
METHOD:PUBLISH
X-WR-CALNAME:Inchantmint: Cottage of the Sovereign Witch
X-ORIGINAL-URL:https://inchantmint.com
X-WR-CALDESC:Events for Inchantmint: Cottage of the Sovereign Witch
REFRESH-INTERVAL;VALUE=DURATION:PT1H
X-Robots-Tag:noindex
X-PUBLISHED-TTL:PT1H
BEGIN:VTIMEZONE
TZID:America/New_York
BEGIN:DAYLIGHT
TZOFFSETFROM:-0500
TZOFFSETTO:-0400
TZNAME:EDT
DTSTART:20250309T070000
END:DAYLIGHT
BEGIN:STANDARD
TZOFFSETFROM:-0400
TZOFFSETTO:-0500
TZNAME:EST
DTSTART:20251102T060000
END:STANDARD
BEGIN:DAYLIGHT
TZOFFSETFROM:-0500
TZOFFSETTO:-0400
TZNAME:EDT
DTSTART:20260308T070000
END:DAYLIGHT
BEGIN:STANDARD
TZOFFSETFROM:-0400
TZOFFSETTO:-0500
TZNAME:EST
DTSTART:20261101T060000
END:STANDARD
BEGIN:DAYLIGHT
TZOFFSETFROM:-0500
TZOFFSETTO:-0400
TZNAME:EDT
DTSTART:20270314T070000
END:DAYLIGHT
BEGIN:STANDARD
TZOFFSETFROM:-0400
TZOFFSETTO:-0500
TZNAME:EST
DTSTART:20271107T060000
END:STANDARD
END:VTIMEZONE
BEGIN:VEVENT
DTSTART;VALUE=DATE:20260218
DTEND;VALUE=DATE:20260321
DTSTAMP:20260423T201304
CREATED:20260218T180004Z
LAST-MODIFIED:20260216T164348Z
UID:8670-1771372800-1774051199@inchantmint.com
SUMMARY:COSMIC EVENT Feb 19th to March 20th - Pisces Soulcraft: Embrace the River of Mystical Change and Deep Knowing
DESCRIPTION:Quarter Spark: A First-Quarter Moon Ritual to Choose Action and Ignite Momentum (Mon — Jan 26\, 2025) Quarter Bright: A First-Quarter Moon Ritual to Set Your Intentions in Motion &#8211;... Continue Reading →
URL:https://inchantmint.com/event/cosmic-event-feb-19th-to-march-20th-pisces-soulcraft-embrace-the-river-of-mystical-change-and-deep-knowing/
CATEGORIES:Pisces
ATTACH;FMTTYPE=image/png:https://inchantmint.com/wp-content/uploads/2026/02/Pisces-Soulcraft-Embrace-the-River-of-Mystical-Change-and-Deep-Knowing.png
END:VEVENT
BEGIN:VEVENT
DTSTART;VALUE=DATE:20260226
DTEND;VALUE=DATE:20260320
DTSTAMP:20260423T201304
CREATED:20260302T152609Z
LAST-MODIFIED:20260302T155033Z
UID:9287-1772064000-1773964799@inchantmint.com
SUMMARY:Mercury Retrograde in Pisces February 26th\, 2026 to March 19th\, 2026
DESCRIPTION:Quarter Spark: A First-Quarter Moon Ritual to Choose Action and Ignite Momentum (Mon — Jan 26\, 2025) Quarter Bright: A First-Quarter Moon Ritual to Set Your Intentions in Motion &#8211;... Continue Reading →
URL:https://inchantmint.com/event/mercury-retrograde-in-pisces-february-26th-2026-to-march-19th-2026/
CATEGORIES:Mercury Retrograde
ATTACH;FMTTYPE=image/png:https://inchantmint.com/wp-content/uploads/2026/03/Mercury-Retrograde-A-Map-for-Tending-Your-Attention-and-Turning-Trouble-into-Treasure.png
END:VEVENT
BEGIN:VEVENT
DTSTART;VALUE=DATE:20260303
DTEND;VALUE=DATE:20260304
DTSTAMP:20260423T201304
CREATED:20260302T140859Z
LAST-MODIFIED:20260302T140859Z
UID:9273-1772496000-1772582399@inchantmint.com
SUMMARY:Worm Full Moon in Virgo with Total Lunar Eclipse Blood Moon March 3rd\, 2026
DESCRIPTION:Quarter Spark: A First-Quarter Moon Ritual to Choose Action and Ignite Momentum (Mon — Jan 26\, 2025) Quarter Bright: A First-Quarter Moon Ritual to Set Your Intentions in Motion &#8211;... Continue Reading →
URL:https://inchantmint.com/event/worm-full-moon-in-virgo-with-total-lunar-eclipse-blood-moon-march-3rd-2026/
CATEGORIES:Full Moon
ATTACH;FMTTYPE=image/png:https://inchantmint.com/wp-content/uploads/2026/03/Worm-Full-Moon-in-Virgo-with-Total-Lunar-Eclipse-Blood-Moon.png
END:VEVENT
BEGIN:VEVENT
DTSTART;VALUE=DATE:20260311
DTEND;VALUE=DATE:20260312
DTSTAMP:20260423T201304
CREATED:20260302T182758Z
LAST-MODIFIED:20260302T182758Z
UID:9340-1773187200-1773273599@inchantmint.com
SUMMARY:Last Quarter Moon - March 11th\, 2026
DESCRIPTION:Quarter Spark: A First-Quarter Moon Ritual to Choose Action and Ignite Momentum (Mon — Jan 26\, 2025) Quarter Bright: A First-Quarter Moon Ritual to Set Your Intentions in Motion &#8211;... Continue Reading →
URL:https://inchantmint.com/event/last-quarter-moon-march-11th-2026/
CATEGORIES:Last Quarter Moon,March 2026
ATTACH;FMTTYPE=image/png:https://inchantmint.com/wp-content/uploads/2026/03/The-Waning-Mirror-The-Last-Quarter-Moons-Quiet-Magic.png
END:VEVENT
BEGIN:VEVENT
DTSTART;VALUE=DATE:20260317
DTEND;VALUE=DATE:20260318
DTSTAMP:20260423T201304
CREATED:20260302T181846Z
LAST-MODIFIED:20260305T102222Z
UID:9336-1773705600-1773791999@inchantmint.com
SUMMARY:Magical Witchy - St. Patrick's Day
DESCRIPTION:Quarter Spark: A First-Quarter Moon Ritual to Choose Action and Ignite Momentum (Mon — Jan 26\, 2025) Quarter Bright: A First-Quarter Moon Ritual to Set Your Intentions in Motion &#8211;... Continue Reading →
URL:https://inchantmint.com/event/magical-witchy-st-patricks-day/
CATEGORIES:Holiday,St. Patrick's Day
ATTACH;FMTTYPE=image/png:https://inchantmint.com/wp-content/uploads/2026/03/Magical-Witchy-St.-Patricks-Day.png
END:VEVENT
BEGIN:VEVENT
DTSTART;VALUE=DATE:20260318
DTEND;VALUE=DATE:20260319
DTSTAMP:20260423T201304
CREATED:20260302T190659Z
LAST-MODIFIED:20260302T190659Z
UID:9347-1773792000-1773878399@inchantmint.com
SUMMARY:Dark Moon - March 18th\, 2026
DESCRIPTION:Quarter Spark: A First-Quarter Moon Ritual to Choose Action and Ignite Momentum (Mon — Jan 26\, 2025) Quarter Bright: A First-Quarter Moon Ritual to Set Your Intentions in Motion &#8211;... Continue Reading →
URL:https://inchantmint.com/event/dark-moon-march-18th-2026/
CATEGORIES:Dark Moon,Moon Phase
ATTACH;FMTTYPE=image/png:https://inchantmint.com/wp-content/uploads/2026/03/Magical-Witchy-Starry-Night-Sky-No-Moon.png
END:VEVENT
BEGIN:VEVENT
DTSTART;VALUE=DATE:20260319
DTEND;VALUE=DATE:20260320
DTSTAMP:20260423T201304
CREATED:20260302T191513Z
LAST-MODIFIED:20260302T192123Z
UID:9354-1773878400-1773964799@inchantmint.com
SUMMARY:New Moon - March 19th\, 2026
DESCRIPTION:Quarter Spark: A First-Quarter Moon Ritual to Choose Action and Ignite Momentum (Mon — Jan 26\, 2025) Quarter Bright: A First-Quarter Moon Ritual to Set Your Intentions in Motion &#8211;... Continue Reading →
URL:https://inchantmint.com/event/new-moon-march-19th-2026/
CATEGORIES:Moon Phase,New Moon
ATTACH;FMTTYPE=image/png:https://inchantmint.com/wp-content/uploads/2025/12/new-moon-intention-ritual.png
END:VEVENT
BEGIN:VEVENT
DTSTART;VALUE=DATE:20260320
DTEND;VALUE=DATE:20260321
DTSTAMP:20260423T201304
CREATED:20260302T195020Z
LAST-MODIFIED:20260305T102352Z
UID:9365-1773964800-1774051199@inchantmint.com
SUMMARY:Ostara Spring Equinox - March 20th\, 2026
DESCRIPTION:Quarter Spark: A First-Quarter Moon Ritual to Choose Action and Ignite Momentum (Mon — Jan 26\, 2025) Quarter Bright: A First-Quarter Moon Ritual to Set Your Intentions in Motion &#8211;... Continue Reading →
URL:https://inchantmint.com/event/ostara-spring-equinox-march-20th-2026/
CATEGORIES:Ostara,Spring Equinox
ATTACH;FMTTYPE=image/png:https://inchantmint.com/wp-content/uploads/2026/03/Magical-Witchy-Ostara-Spring-Equinox.png
END:VEVENT
BEGIN:VEVENT
DTSTART;VALUE=DATE:20260320
DTEND;VALUE=DATE:20260321
DTSTAMP:20260423T201304
CREATED:20260302T200125Z
LAST-MODIFIED:20260302T200125Z
UID:9374-1773964800-1774051199@inchantmint.com
SUMMARY:International Astrology Day - March 20th\, 2026
DESCRIPTION:Quarter Spark: A First-Quarter Moon Ritual to Choose Action and Ignite Momentum (Mon — Jan 26\, 2025) Quarter Bright: A First-Quarter Moon Ritual to Set Your Intentions in Motion &#8211;... Continue Reading →
URL:https://inchantmint.com/event/international-astrology-day-march-20th-2026/
CATEGORIES:Astrology,International Astrology Day
ATTACH;FMTTYPE=image/png:https://inchantmint.com/wp-content/uploads/2026/03/Magical-Witchy-Astrology.png
END:VEVENT
BEGIN:VEVENT
DTSTART;VALUE=DATE:20260320
DTEND;VALUE=DATE:20260419
DTSTAMP:20260423T201304
CREATED:20260302T200505Z
LAST-MODIFIED:20260302T200956Z
UID:9382-1773964800-1776556799@inchantmint.com
SUMMARY:Sun Enters Aries - March 20th\, 2026 to April 18th\, 2026
DESCRIPTION:Quarter Spark: A First-Quarter Moon Ritual to Choose Action and Ignite Momentum (Mon — Jan 26\, 2025) Quarter Bright: A First-Quarter Moon Ritual to Set Your Intentions in Motion &#8211;... Continue Reading →
URL:https://inchantmint.com/event/sun-enters-aries-march-20th-2026-to-april-18th-2026/
CATEGORIES:Aries,Sun Enters Aries
ATTACH;FMTTYPE=image/png:https://inchantmint.com/wp-content/uploads/2026/03/Magical-Witchy-Sun-Enters-Aries.png
END:VEVENT
BEGIN:VEVENT
DTSTART;VALUE=DATE:20260325
DTEND;VALUE=DATE:20260326
DTSTAMP:20260423T201304
CREATED:20260302T201858Z
LAST-MODIFIED:20260302T202357Z
UID:9388-1774396800-1774483199@inchantmint.com
SUMMARY:First Quarter Moon - March 25th\, 2026
DESCRIPTION:Quarter Spark: A First-Quarter Moon Ritual to Choose Action and Ignite Momentum (Mon — Jan 26\, 2025) Quarter Bright: A First-Quarter Moon Ritual to Set Your Intentions in Motion &#8211;... Continue Reading →
URL:https://inchantmint.com/event/first-quarter-moon-march-25th-2026/
CATEGORIES:First Quarter Moon,Moon Phase,Moon Ritual
ATTACH;FMTTYPE=image/png:https://inchantmint.com/wp-content/uploads/2026/03/Magical-Witchy-First-Quarter-Moon.png
END:VEVENT
END:VCALENDAR