BEGIN:VCALENDAR
VERSION:2.0
PRODID:-//Inchantmint: Cottage of the Sovereign Witch - ECPv6.15.20//NONSGML v1.0//EN
CALSCALE:GREGORIAN
METHOD:PUBLISH
X-WR-CALNAME:Inchantmint: Cottage of the Sovereign Witch
X-ORIGINAL-URL:https://inchantmint.com
X-WR-CALDESC:Events for Inchantmint: Cottage of the Sovereign Witch
REFRESH-INTERVAL;VALUE=DURATION:PT1H
X-Robots-Tag:noindex
X-PUBLISHED-TTL:PT1H
BEGIN:VTIMEZONE
TZID:America/New_York
BEGIN:DAYLIGHT
TZOFFSETFROM:-0500
TZOFFSETTO:-0400
TZNAME:EDT
DTSTART:20250309T070000
END:DAYLIGHT
BEGIN:STANDARD
TZOFFSETFROM:-0400
TZOFFSETTO:-0500
TZNAME:EST
DTSTART:20251102T060000
END:STANDARD
BEGIN:DAYLIGHT
TZOFFSETFROM:-0500
TZOFFSETTO:-0400
TZNAME:EDT
DTSTART:20260308T070000
END:DAYLIGHT
BEGIN:STANDARD
TZOFFSETFROM:-0400
TZOFFSETTO:-0500
TZNAME:EST
DTSTART:20261101T060000
END:STANDARD
BEGIN:DAYLIGHT
TZOFFSETFROM:-0500
TZOFFSETTO:-0400
TZNAME:EDT
DTSTART:20270314T070000
END:DAYLIGHT
BEGIN:STANDARD
TZOFFSETFROM:-0400
TZOFFSETTO:-0500
TZNAME:EST
DTSTART:20271107T060000
END:STANDARD
END:VTIMEZONE
BEGIN:VEVENT
DTSTART;VALUE=DATE:20260111
DTEND;VALUE=DATE:20260118
DTSTAMP:20260424T193225
CREATED:20260103T005801Z
LAST-MODIFIED:20260103T005801Z
UID:6949-1768089600-1768694399@inchantmint.com
SUMMARY:Quiet Return: A Waning Crescent Ritual to Rest\, Repair\, and Ready the Heart (Sun Jan 11\, 2025 → Sat Jan 17\, 2025)
DESCRIPTION:This Waning Crescent asks for gentle retreat\, tender repair\, and soft preparation. In these seven days you fold inward like a hearth at dusk: rest the body\, mend what’s worn\, and ready your center for the next bright turning. Use this ritual any evening in the window\, or visit it briefly each night. It’s nourishing\,... Continue Reading →
URL:https://inchantmint.com/event/quiet-return-a-waning-crescent-ritual-to-rest-repair-and-ready-the-heart-sun-jan-11-2025-%e2%86%92-sat-jan-17-2025/
CATEGORIES:January,Moon Ritual,Waning Crescent
END:VEVENT
END:VCALENDAR