BEGIN:VCALENDAR
VERSION:2.0
PRODID:-//Inchantmint: Cottage of the Sovereign Witch - ECPv6.15.20//NONSGML v1.0//EN
CALSCALE:GREGORIAN
METHOD:PUBLISH
X-WR-CALNAME:Inchantmint: Cottage of the Sovereign Witch
X-ORIGINAL-URL:https://inchantmint.com
X-WR-CALDESC:Events for Inchantmint: Cottage of the Sovereign Witch
REFRESH-INTERVAL;VALUE=DURATION:PT1H
X-Robots-Tag:noindex
X-PUBLISHED-TTL:PT1H
BEGIN:VTIMEZONE
TZID:America/New_York
BEGIN:DAYLIGHT
TZOFFSETFROM:-0500
TZOFFSETTO:-0400
TZNAME:EDT
DTSTART:20250309T070000
END:DAYLIGHT
BEGIN:STANDARD
TZOFFSETFROM:-0400
TZOFFSETTO:-0500
TZNAME:EST
DTSTART:20251102T060000
END:STANDARD
BEGIN:DAYLIGHT
TZOFFSETFROM:-0500
TZOFFSETTO:-0400
TZNAME:EDT
DTSTART:20260308T070000
END:DAYLIGHT
BEGIN:STANDARD
TZOFFSETFROM:-0400
TZOFFSETTO:-0500
TZNAME:EST
DTSTART:20261101T060000
END:STANDARD
BEGIN:DAYLIGHT
TZOFFSETFROM:-0500
TZOFFSETTO:-0400
TZNAME:EDT
DTSTART:20270314T070000
END:DAYLIGHT
BEGIN:STANDARD
TZOFFSETFROM:-0400
TZOFFSETTO:-0500
TZNAME:EST
DTSTART:20271107T060000
END:STANDARD
END:VTIMEZONE
BEGIN:VEVENT
DTSTART;VALUE=DATE:20260216
DTEND;VALUE=DATE:20260223
DTSTAMP:20260421T220428
CREATED:20260216T180013Z
LAST-MODIFIED:20260216T152415Z
UID:8659-1771200000-1771804799@inchantmint.com
SUMMARY:COSMIC EVENT Feb 17–18\, 2026 - Ride the Ring of Fire: A Practical Witch’s Guide to the Horse Lunar New Year New Moon + Annular Eclipse
DESCRIPTION:The cosmos has threaded a brave\, quicksilver moment for us: a Horse Lunar New Year layered over a New Moon shifting from Aquarius to Pisces\, crowned by an annular ring-of-fire Solar Eclipse in Aquarius\, then the Sun stepping into Pisces the next day — all inside a Universal Year 1. This is a seam in... Continue Reading →
URL:https://inchantmint.com/event/cosmic-event-feb-17-18-2026-ride-the-ring-of-fire-a-practical-witchs-guide-to-the-horse-lunar-new-year-new-moon-annular-eclipse/
CATEGORIES:Applied Metaphysics,Cottage Witchery,High-Frequency Living,Horse Lunar Year,Inchantmint,Lunar New Year,Metaphysical Magic,Metaphysical Systems,Mindfulness,Moon Ritual,New Moon,Personal Development,Ritual Practice,Self-Mastery,Sovereign Witch,Spiritual Growth,Witchcraft
ATTACH;FMTTYPE=image/png:https://inchantmint.com/wp-content/uploads/2026/02/Ride-the-Ring-of-Fire-A-Practical-Witchs-Guide-to-the-Horse-Lunar-New-Year-New-Moon-Annular-Eclipse-Feb-17–18-2026.png
END:VEVENT
BEGIN:VEVENT
DTSTART;VALUE=DATE:20260205
DTEND;VALUE=DATE:20260215
DTSTAMP:20260421T220428
CREATED:20260205T180718Z
LAST-MODIFIED:20260205T180746Z
UID:8170-1770249600-1771113599@inchantmint.com
SUMMARY:Announcement: COMING SOON to the Coven and Academy for the Sovereign Witch Member Initiates
DESCRIPTION:The cosmos has threaded a brave\, quicksilver moment for us: a Horse Lunar New Year layered over a New Moon shifting from Aquarius to Pisces\, crowned by an annular ring-of-fire Solar Eclipse in Aquarius\, then the Sun stepping into Pisces the next day — all inside a Universal Year 1. This is a seam in... Continue Reading →
URL:https://inchantmint.com/event/announcement-coming-soon-to-the-coven-and-academy-for-the-sovereign-witch-member-initiates/
CATEGORIES:Announcement,Coming Soon,Coven and Academy,Inchantmint Academy,Member Initiates,Sovereign Witch,Witchy Course
ATTACH;FMTTYPE=image/png:https://inchantmint.com/wp-content/uploads/2026/02/The-Magnetic-Matrix-Advanced-Neuro-Alchemy-and-the-Science-of-Intentional-Manifestation-By-Cat-Oakenhart-Inchantmint.png
END:VEVENT
END:VCALENDAR