BEGIN:VCALENDAR
VERSION:2.0
PRODID:-//Inchantmint: Cottage of the Sovereign Witch - ECPv6.15.20//NONSGML v1.0//EN
CALSCALE:GREGORIAN
METHOD:PUBLISH
X-ORIGINAL-URL:https://inchantmint.com
X-WR-CALDESC:Events for Inchantmint: Cottage of the Sovereign Witch
REFRESH-INTERVAL;VALUE=DURATION:PT1H
X-Robots-Tag:noindex
X-PUBLISHED-TTL:PT1H
BEGIN:VTIMEZONE
TZID:America/New_York
BEGIN:DAYLIGHT
TZOFFSETFROM:-0500
TZOFFSETTO:-0400
TZNAME:EDT
DTSTART:20250309T070000
END:DAYLIGHT
BEGIN:STANDARD
TZOFFSETFROM:-0400
TZOFFSETTO:-0500
TZNAME:EST
DTSTART:20251102T060000
END:STANDARD
BEGIN:DAYLIGHT
TZOFFSETFROM:-0500
TZOFFSETTO:-0400
TZNAME:EDT
DTSTART:20260308T070000
END:DAYLIGHT
BEGIN:STANDARD
TZOFFSETFROM:-0400
TZOFFSETTO:-0500
TZNAME:EST
DTSTART:20261101T060000
END:STANDARD
BEGIN:DAYLIGHT
TZOFFSETFROM:-0500
TZOFFSETTO:-0400
TZNAME:EDT
DTSTART:20270314T070000
END:DAYLIGHT
BEGIN:STANDARD
TZOFFSETFROM:-0400
TZOFFSETTO:-0500
TZNAME:EST
DTSTART:20271107T060000
END:STANDARD
END:VTIMEZONE
BEGIN:VEVENT
DTSTART;VALUE=DATE:20260105
DTEND;VALUE=DATE:20260110
DTSTAMP:20260421T200652
CREATED:20260104T182029Z
LAST-MODIFIED:20260105T160201Z
UID:6994-1767571200-1768003199@inchantmint.com
SUMMARY:Weekly Cottage Protocol - Jan 5–9: The Hearth-Archivist’s Integration
DESCRIPTION:Frequency Word: REFINE Primary Objective: To transition from outward radiance (Shine/Leo) to internal structure (Drive/Capricorn) while the moon's light decreases. The Science: Phase-Shift Management As the Moon moves further into its Waning Gibbous phase\, the Earth's geomagnetic intensity begins to recede. Your nervous system is shifting from Peak Performance (The "Shine" of early week) into... Continue Reading →
URL:https://inchantmint.com/event/weekly-cottage-protocol-jan-5-9-the-hearth-archivists-integration/
CATEGORIES:Analytical Witchcraft,Applied Metaphysics,Bio-Alchemy,Cottage Witch Tip,Cottage Witchery,Evidence-Based Ritual,Executive Function,High-Frequency Living,Inchantmint,Interior Architecture,January,Metaphysical Systems,Neuroscience,Principal Investigator,Quantum Physics,Self-Mastery,Sovereign Scientist,Stress Physiology,The Sovereign Body,Weekly Cottage Protocol,Weekly Protocol,Weekly Ritual
ATTACH;FMTTYPE=image/png:https://inchantmint.com/wp-content/uploads/2026/01/Weekly-Cottage-Protocol-Jan-5–9-The-Hearth-Archivists-Integration.png
END:VEVENT
END:VCALENDAR