BEGIN:VCALENDAR
VERSION:2.0
PRODID:-//Inchantmint: Cottage of the Sovereign Witch - ECPv6.15.20//NONSGML v1.0//EN
CALSCALE:GREGORIAN
METHOD:PUBLISH
X-ORIGINAL-URL:https://inchantmint.com
X-WR-CALDESC:Events for Inchantmint: Cottage of the Sovereign Witch
REFRESH-INTERVAL;VALUE=DURATION:PT1H
X-Robots-Tag:noindex
X-PUBLISHED-TTL:PT1H
BEGIN:VTIMEZONE
TZID:America/New_York
BEGIN:DAYLIGHT
TZOFFSETFROM:-0500
TZOFFSETTO:-0400
TZNAME:EDT
DTSTART:20250309T070000
END:DAYLIGHT
BEGIN:STANDARD
TZOFFSETFROM:-0400
TZOFFSETTO:-0500
TZNAME:EST
DTSTART:20251102T060000
END:STANDARD
BEGIN:DAYLIGHT
TZOFFSETFROM:-0500
TZOFFSETTO:-0400
TZNAME:EDT
DTSTART:20260308T070000
END:DAYLIGHT
BEGIN:STANDARD
TZOFFSETFROM:-0400
TZOFFSETTO:-0500
TZNAME:EST
DTSTART:20261101T060000
END:STANDARD
BEGIN:DAYLIGHT
TZOFFSETFROM:-0500
TZOFFSETTO:-0400
TZNAME:EDT
DTSTART:20270314T070000
END:DAYLIGHT
BEGIN:STANDARD
TZOFFSETFROM:-0400
TZOFFSETTO:-0500
TZNAME:EST
DTSTART:20271107T060000
END:STANDARD
END:VTIMEZONE
BEGIN:VEVENT
DTSTART;VALUE=DATE:20260118
DTEND;VALUE=DATE:20260119
DTSTAMP:20260424T192922
CREATED:20260103T010141Z
LAST-MODIFIED:20260103T010141Z
UID:6952-1768694400-1768780799@inchantmint.com
SUMMARY:Fresh-Wake New Moon: A First-New-Moon Ritual to Plant Intentions for the Year Ahead (Sun — Jan 18\, 2025)
DESCRIPTION:Quarter Spark: A First-Quarter Moon Ritual to Choose Action and Ignite Momentum (Mon — Jan 26\, 2025) Quarter Bright: A First-Quarter Moon Ritual to Set Your Intentions in Motion &#8211;... Continue Reading →
URL:https://inchantmint.com/event/fresh-wake-new-moon-a-first-new-moon-ritual-to-plant-intentions-for-the-year-ahead-sun-jan-18-2025/
CATEGORIES:January,Moon Ritual,New Moon
END:VEVENT
END:VCALENDAR