BEGIN:VCALENDAR
VERSION:2.0
PRODID:-//Inchantmint: Cottage of the Sovereign Witch - ECPv6.15.20//NONSGML v1.0//EN
CALSCALE:GREGORIAN
METHOD:PUBLISH
X-WR-CALNAME:Inchantmint: Cottage of the Sovereign Witch
X-ORIGINAL-URL:https://inchantmint.com
X-WR-CALDESC:Events for Inchantmint: Cottage of the Sovereign Witch
REFRESH-INTERVAL;VALUE=DURATION:PT1H
X-Robots-Tag:noindex
X-PUBLISHED-TTL:PT1H
BEGIN:VTIMEZONE
TZID:America/New_York
BEGIN:DAYLIGHT
TZOFFSETFROM:-0500
TZOFFSETTO:-0400
TZNAME:EDT
DTSTART:20250309T070000
END:DAYLIGHT
BEGIN:STANDARD
TZOFFSETFROM:-0400
TZOFFSETTO:-0500
TZNAME:EST
DTSTART:20251102T060000
END:STANDARD
BEGIN:DAYLIGHT
TZOFFSETFROM:-0500
TZOFFSETTO:-0400
TZNAME:EDT
DTSTART:20260308T070000
END:DAYLIGHT
BEGIN:STANDARD
TZOFFSETFROM:-0400
TZOFFSETTO:-0500
TZNAME:EST
DTSTART:20261101T060000
END:STANDARD
BEGIN:DAYLIGHT
TZOFFSETFROM:-0500
TZOFFSETTO:-0400
TZNAME:EDT
DTSTART:20270314T070000
END:DAYLIGHT
BEGIN:STANDARD
TZOFFSETFROM:-0400
TZOFFSETTO:-0500
TZNAME:EST
DTSTART:20271107T060000
END:STANDARD
END:VTIMEZONE
BEGIN:VEVENT
DTSTART;VALUE=DATE:20260201
DTEND;VALUE=DATE:20260202
DTSTAMP:20260421T231129
CREATED:20260127T192245Z
LAST-MODIFIED:20260127T192656Z
UID:7764-1769904000-1769990399@inchantmint.com
SUMMARY:Imbolc Sabbat - Sunday\, February 1st\, 2026
DESCRIPTION:
URL:https://inchantmint.com/event/imbolc-sabbat-sunday-february-1st-2026/
CATEGORIES:Imbolc,Sabbat
END:VEVENT
END:VCALENDAR